BEGIN:VCALENDAR
VERSION:2.0
PRODID:icalendar-ruby
CALSCALE:GREGORIAN
METHOD:PUBLISH
BEGIN:VEVENT
DTSTAMP:20260421T015129Z
UID:2d0ced07-05cd-46b6-9004-f5296830a0da
DTSTART:20220615T160000
DTEND:20220616T020000
DESCRIPTION:<p>Happy birthday Katys !!!</p><p><br></p><p>It’s a celebrati
 on</p><p><br></p><p>Katy’s is turning 10 and standing strong through the
  crazy times and the good times. We have been waiting patiently to throw t
 his party. So join old friends familiar faces\, great DJs and us Danny\, M
 itch\, Mark\, Elize\, Inno and the whole crew in celebrating one of the mo
 st spectacular venues in South Africa.</p><p><br></p><p>And definitely bri
 ng your good times and your laughter too we gonna celebrate this party wit
 h YOU</p><p><br></p><p>Doors open 4pm | Gents over 23 and Ladies over 21.<
 /p>
LOCATION:6 Desmond Avenue\, Kramerville. Sandton. 
SUMMARY:The Katys Palace 10 Year Birthday!
URL;VALUE=URI:https://connect.howler.co.za/KatysBirthday
END:VEVENT
END:VCALENDAR
